BEGIN:VCALENDAR
PRODID:-//PUBBLE//agenda//NL
VERSION:2.0
METHOD:PUBLISH
BEGIN:VEVENT
DTSTART:20260421T090000Z
DTEND:20260421T100000Z
DTSTAMP:20260421T143307Z
UID:d0e7ca07-c7f1-436e-8c5f-7cedd2b080e5
CREATED:20260421T143307Z
NAME:Samen mooischijndel.nl
X-WR-CALNAME:Samen
X-ALT-DESC;FMTTYPE=text/html:<a href='/agenda/2026/4/21/samen-35297'>/agenda/2026/4/21/samen-35297</a> || <p>Na de gezamenlijke wandeling op dinsdag is er in ’t Bluumke ook een sportmoment voor iedereen die actief bezig wil blijven. Van 11.00 tot 12.00 uur wordt er in groepsverband gesport op een laagdrempelige manier.</p><p>Deelname aan dit sportmoment is momenteel gratis. Of dat zo blijft, is nog niet zeker, maar voor dit jaar kunnen deelnemers kosteloos meedoen. Nieuwe deelnemers zijn van harte welkom.</p>
DESCRIPTION:<a href='/agenda/2026/4/21/samen-35297'>/agenda/2026/4/21/samen-35297</a> || <p>Na de gezamenlijke wandeling op dinsdag is er in ’t Bluumke ook een sportmoment voor iedereen die actief bezig wil blijven. Van 11.00 tot 12.00 uur wordt er in groepsverband gesport op een laagdrempelige manier.</p><p>Deelname aan dit sportmoment is momenteel gratis. Of dat zo blijft, is nog niet zeker, maar voor dit jaar kunnen deelnemers kosteloos meedoen. Nieuwe deelnemers zijn van harte welkom.</p>
LAST-MODIFIED:20260421T143307Z
LOCATION: 't Bluumke | Papaverstraat 17 Schijndel
SEQUENCE:0
STATUS:CONFIRMED
SUMMARY:Samen
TRANSP:OPAQUE
END:VEVENT
END:VCALENDAR
