BEGIN:VCALENDAR
PRODID:-//PUBBLE//agenda//NL
VERSION:2.0
METHOD:PUBLISH
BEGIN:VEVENT
DTSTART:20260106T090718Z
DTEND:20260106T100718Z
DTSTAMP:20260424T131809Z
UID:16fe3d22-c737-4898-b59e-a6aaf1bb2fab
CREATED:20260424T131809Z
NAME:Kaartavonden Vitaal Wijzer Wijbosch mooischijndel.nl
X-WR-CALNAME:Kaartavonden Vitaal Wijzer Wijbosch
X-ALT-DESC;FMTTYPE=text/html:<a href='/agenda/2026/2/3/kaartavonden-vitaal-wijzer-wijbosch-34223'>/agenda/2026/2/3/kaartavonden-vitaal-wijzer-wijbosch-34223</a> || <p><strong>WIJBOSCH | Iedere dinsdag, met uitzondering van 10 en 17 februari, kunt u komen jokeren of rikken in de Schakel. Iedereen is welkom om te komen.</strong></p><p>Inschrijven vanaf 19.00 uur, kaarten start om 19.30 uur. Deelnamekosten €5, inclusief koffie/thee en een gratis loterij. Kom gezellig meedoen!</p>
DESCRIPTION:<a href='/agenda/2026/2/3/kaartavonden-vitaal-wijzer-wijbosch-34223'>/agenda/2026/2/3/kaartavonden-vitaal-wijzer-wijbosch-34223</a> || <p><strong>WIJBOSCH | Iedere dinsdag, met uitzondering van 10 en 17 februari, kunt u komen jokeren of rikken in de Schakel. Iedereen is welkom om te komen.</strong></p><p>Inschrijven vanaf 19.00 uur, kaarten start om 19.30 uur. Deelnamekosten €5, inclusief koffie/thee en een gratis loterij. Kom gezellig meedoen!</p>
LAST-MODIFIED:20260424T131809Z
LOCATION: De Schakel |   Wijbosch
SEQUENCE:0
STATUS:CONFIRMED
SUMMARY:Kaartavonden Vitaal Wijzer Wijbosch
TRANSP:OPAQUE
END:VEVENT
END:VCALENDAR
