BEGIN:VCALENDAR
PRODID:-//PUBBLE//agenda//NL
VERSION:2.0
METHOD:PUBLISH
BEGIN:VEVENT
DTSTART:20260106T090649Z
DTEND:20260106T100649Z
DTSTAMP:20260424T180337Z
UID:aa075f5b-1c37-413c-bd44-7abfcb7f9420
CREATED:20260424T180337Z
NAME:Kaartavonden Vitaal Wijzer Wijbosch mooischijndel.nl
X-WR-CALNAME:Kaartavonden Vitaal Wijzer Wijbosch
X-ALT-DESC;FMTTYPE=text/html:<a href='/agenda/2026/1/27/kaartavonden-vitaal-wijzer-wijbosch-34222'>/agenda/2026/1/27/kaartavonden-vitaal-wijzer-wijbosch-34222</a> || <p><strong>WIJBOSCH | Iedere dinsdag, met uitzondering van 10 en 17 februari, kunt u komen jokeren of rikken in de Schakel. Iedereen is welkom om te komen.</strong></p><p>Inschrijven vanaf 19.00 uur, kaarten start om 19.30 uur. Deelnamekosten €5, inclusief koffie/thee en een gratis loterij. Kom gezellig meedoen!</p>
DESCRIPTION:<a href='/agenda/2026/1/27/kaartavonden-vitaal-wijzer-wijbosch-34222'>/agenda/2026/1/27/kaartavonden-vitaal-wijzer-wijbosch-34222</a> || <p><strong>WIJBOSCH | Iedere dinsdag, met uitzondering van 10 en 17 februari, kunt u komen jokeren of rikken in de Schakel. Iedereen is welkom om te komen.</strong></p><p>Inschrijven vanaf 19.00 uur, kaarten start om 19.30 uur. Deelnamekosten €5, inclusief koffie/thee en een gratis loterij. Kom gezellig meedoen!</p>
LAST-MODIFIED:20260424T180337Z
LOCATION: De Schakel |   Wijbosch
SEQUENCE:0
STATUS:CONFIRMED
SUMMARY:Kaartavonden Vitaal Wijzer Wijbosch
TRANSP:OPAQUE
END:VEVENT
END:VCALENDAR
