BEGIN:VCALENDAR
PRODID:-//PUBBLE//agenda//NL
VERSION:2.0
METHOD:PUBLISH
BEGIN:VEVENT
DTSTART:20241028T082240Z
DTEND:20241102T100000Z
DTSTAMP:20260423T155821Z
UID:109858b4-bc56-4ae2-84e9-d4cc1d080613
CREATED:20260423T155821Z
NAME:Natuurwerkdag in Eerde mooischijndel.nl
X-WR-CALNAME:Natuurwerkdag in Eerde
X-ALT-DESC;FMTTYPE=text/html:<a href='/agenda/2024/11/2/natuurwerkdag-in-eerde-30281'>/agenda/2024/11/2/natuurwerkdag-in-eerde-30281</a> || <p><strong>EERDE |&nbsp;</strong><strong>Aankomende week kan heel Nederland weer meedoen aan de Nationale Natuurwerkdag. Op zaterdag 2 november zijn er in het hele land natuurklussen te doen die bijdragen aan natuurbehoud- en herstel, zoals wilgen knotten, broeihopen maken, poelen opschonen, bomen planten en veel andere activiteiten. En die hulp in natuurgebieden is hard nodig.&nbsp;</strong><br><br>Elk jaar doen er ruim 15.000 deelnemers mee aan deze landelijke dag in het groen, met meer dan 500 natuurklussen in het hele land. Dit jaar valt de Natuurwerkdag in de Nationale Klimaatweek. Een mooie kans om kennis te maken met groen vrijwilligerswerk en je samen met anderen in te zetten voor een stukje natuur bij jou in de buurt. <br><br><strong>Biodiversiteit en klimaat: samen de schouders eronder</strong><br>Biodiversiteit en de kwaliteit van onze natuur zijn volop in het nieuws. Niet alleen Natura 2000-gebieden staan onder druk, maar ook de natuur buiten die gebieden verdienen aandacht. Op 4 november zetten we ons samen in voor die natuur.<br><br><strong>Doe mee op 2 november</strong><br>Wil je ook iets doen voor natuur en klimaat en samen met buren, vrienden of familie buiten een dag aan de slag te gaan? Samen draag je bij aan jouw groene omgeving. Naast dat je iets goeds doet voor de natuur, ontmoet je op de Natuurwerkdag ook nieuwe mensen. Op <a href="http://www.natuurwerkdag.nl/" target="_blank">www.natuurwerkdag.nl</a> vind je klussen bij jou in de buurt én is het mogelijk om je aan te melden. In 2023 organiseren de provinciale Landschapsbeheerorganisaties de Natuurwerkdag voor de 23e keer op ruim 500 locaties door heel Nederland, waarvan bijna 50 in Noord-Brabant.&nbsp;</p><p><strong>Lokale activiteiten</strong><br>In Eerde wordt door Natuurwerkgroep de Eerdse Bergen een activiteit georganiseerd. We gaan kleine wilgjes uittrekken rond een poel. En iedereen mag meedoen! +18 jaar. Ze starten om 09.00 uur tot 12.00 uur vanaf De berghut in de natuurtuin. Schoolhuisweg 38 Eerde. Info via Fia Fiers 0622609707 of <a href="http://www.natuurwerkdag.nl/" target="_blank"><strong>www.natuurwerkdag.nl</strong></a>&nbsp;</p>
DESCRIPTION:<a href='/agenda/2024/11/2/natuurwerkdag-in-eerde-30281'>/agenda/2024/11/2/natuurwerkdag-in-eerde-30281</a> || <p><strong>EERDE |&nbsp;</strong><strong>Aankomende week kan heel Nederland weer meedoen aan de Nationale Natuurwerkdag. Op zaterdag 2 november zijn er in het hele land natuurklussen te doen die bijdragen aan natuurbehoud- en herstel, zoals wilgen knotten, broeihopen maken, poelen opschonen, bomen planten en veel andere activiteiten. En die hulp in natuurgebieden is hard nodig.&nbsp;</strong><br><br>Elk jaar doen er ruim 15.000 deelnemers mee aan deze landelijke dag in het groen, met meer dan 500 natuurklussen in het hele land. Dit jaar valt de Natuurwerkdag in de Nationale Klimaatweek. Een mooie kans om kennis te maken met groen vrijwilligerswerk en je samen met anderen in te zetten voor een stukje natuur bij jou in de buurt. <br><br><strong>Biodiversiteit en klimaat: samen de schouders eronder</strong><br>Biodiversiteit en de kwaliteit van onze natuur zijn volop in het nieuws. Niet alleen Natura 2000-gebieden staan onder druk, maar ook de natuur buiten die gebieden verdienen aandacht. Op 4 november zetten we ons samen in voor die natuur.<br><br><strong>Doe mee op 2 november</strong><br>Wil je ook iets doen voor natuur en klimaat en samen met buren, vrienden of familie buiten een dag aan de slag te gaan? Samen draag je bij aan jouw groene omgeving. Naast dat je iets goeds doet voor de natuur, ontmoet je op de Natuurwerkdag ook nieuwe mensen. Op <a href="http://www.natuurwerkdag.nl/" target="_blank">www.natuurwerkdag.nl</a> vind je klussen bij jou in de buurt én is het mogelijk om je aan te melden. In 2023 organiseren de provinciale Landschapsbeheerorganisaties de Natuurwerkdag voor de 23e keer op ruim 500 locaties door heel Nederland, waarvan bijna 50 in Noord-Brabant.&nbsp;</p><p><strong>Lokale activiteiten</strong><br>In Eerde wordt door Natuurwerkgroep de Eerdse Bergen een activiteit georganiseerd. We gaan kleine wilgjes uittrekken rond een poel. En iedereen mag meedoen! +18 jaar. Ze starten om 09.00 uur tot 12.00 uur vanaf De berghut in de natuurtuin. Schoolhuisweg 38 Eerde. Info via Fia Fiers 0622609707 of <a href="http://www.natuurwerkdag.nl/" target="_blank"><strong>www.natuurwerkdag.nl</strong></a>&nbsp;</p>
LAST-MODIFIED:20260423T155821Z
LOCATION: Natuurtuin Eerdse Bergen | Schoolhuisweg 38 Eerde
SEQUENCE:0
STATUS:CONFIRMED
SUMMARY:Natuurwerkdag in Eerde
TRANSP:OPAQUE
END:VEVENT
END:VCALENDAR
