BEGIN:VCALENDAR
PRODID:-//PUBBLE//agenda//NL
VERSION:2.0
METHOD:PUBLISH
BEGIN:VEVENT
DTSTART:20240603T220100Z
DTEND:20240607T215900Z
DTSTAMP:20260422T171250Z
UID:cf2233e7-8ca5-4b83-9a27-0ae048ed7104
CREATED:20260422T171250Z
NAME:Avondvierdaagse 2024 mooischijndel.nl
X-WR-CALNAME:Avondvierdaagse 2024
X-ALT-DESC;FMTTYPE=text/html:<a href='/agenda/2024/6/4/avondvierdaagse-2024-28439'>/agenda/2024/6/4/avondvierdaagse-2024-28439</a> || <p><strong>SCHIJNDEL | Van dinsdag 4 juni tot en met vrijdag 7 juni 2024 vindt alweer de 12e editie van de Avondvierdaagse plaats. Het wandelfeest voor jong én oud! Voor beginners, de meer gevorderde wandelaars en mensen die minder goed te been zijn. Iedereen kan en mag meedoen.&nbsp;</strong></p><p>&nbsp;Starten en eindigen traditiegetrouw gebeurt weer alle dagen vanuit Cultureel Centrum ‘t Spectrum. De laatste dag sluiten we af met een gezellige intocht en een feestje bij ‘t Spectrum.&nbsp;</p><p>Wandel jij ook weer mee?</p><p>Het tijdstip waarop gestart kan worden is elke dag voor de 5 en 10 kilometer en rolstoelroute tussen 18.00 uur en 19.00 uur en voor de 15 kilometer tussen 18.00 uur en 18.30 uur. Afmelden bij Spectrum Schijndel kan tot 22.00 uur.</p><p>Inschrijven voor de Avondvierdaagse kan via onderstaande link:</p><p><a href="https://kwbn.tixxy.nl/nl/A4D-schijndel-2024/add-participant" target="_blank">https://kwbn.tixxy.nl/nl/A4D-schijndel-2024/add-participant</a></p>
DESCRIPTION:<a href='/agenda/2024/6/4/avondvierdaagse-2024-28439'>/agenda/2024/6/4/avondvierdaagse-2024-28439</a> || <p><strong>SCHIJNDEL | Van dinsdag 4 juni tot en met vrijdag 7 juni 2024 vindt alweer de 12e editie van de Avondvierdaagse plaats. Het wandelfeest voor jong én oud! Voor beginners, de meer gevorderde wandelaars en mensen die minder goed te been zijn. Iedereen kan en mag meedoen.&nbsp;</strong></p><p>&nbsp;Starten en eindigen traditiegetrouw gebeurt weer alle dagen vanuit Cultureel Centrum ‘t Spectrum. De laatste dag sluiten we af met een gezellige intocht en een feestje bij ‘t Spectrum.&nbsp;</p><p>Wandel jij ook weer mee?</p><p>Het tijdstip waarop gestart kan worden is elke dag voor de 5 en 10 kilometer en rolstoelroute tussen 18.00 uur en 19.00 uur en voor de 15 kilometer tussen 18.00 uur en 18.30 uur. Afmelden bij Spectrum Schijndel kan tot 22.00 uur.</p><p>Inschrijven voor de Avondvierdaagse kan via onderstaande link:</p><p><a href="https://kwbn.tixxy.nl/nl/A4D-schijndel-2024/add-participant" target="_blank">https://kwbn.tixxy.nl/nl/A4D-schijndel-2024/add-participant</a></p>
LAST-MODIFIED:20260422T171250Z
LOCATION: Spectrum Schijndel | Steeg 9 Schijndel
SEQUENCE:0
STATUS:CONFIRMED
SUMMARY:Avondvierdaagse 2024
TRANSP:OPAQUE
END:VEVENT
END:VCALENDAR
