BEGIN:VCALENDAR
PRODID:-//PUBBLE//agenda//NL
VERSION:2.0
METHOD:PUBLISH
BEGIN:VEVENT
DTSTART:20230516T110000Z
DTEND:20231012T165900Z
DTSTAMP:20260425T155322Z
UID:92561c6f-9400-4969-a8a6-783f34482657
CREATED:20260425T155322Z
NAME:Vrije inloop bij Petanque Vereniging Wij Liggen mooischijndel.nl
X-WR-CALNAME:Vrije inloop bij Petanque Vereniging Wij Liggen
X-ALT-DESC;FMTTYPE=text/html:<a href='/agenda/2023/5/16/vrije-inloop-bij-petanque-vereniging-wij-liggen-25148'>/agenda/2023/5/16/vrije-inloop-bij-petanque-vereniging-wij-liggen-25148</a> || <p><strong>SCHIJNDEL | Iedere zaterdag kunnen liefhebber van Jeu de Boules vrij komen spelen bij Petanque Vereniging Wij Liggen.&nbsp;</strong></p><p>De vereniging opent de banen iedere zaterdag middag tussen 13.30 uur en 16.30 uur. Vanaf 13.00 uur ben je al welkom aan de Leemputtenweg.&nbsp;</p><p>Voor het vrij spelen vraagt de vereniging een bijdrage van €2,- per middag.&nbsp;</p><p>Op deze manier kun je op een laagdrempelige manier kennis maken met de sport.</p>
DESCRIPTION:<a href='/agenda/2023/5/16/vrije-inloop-bij-petanque-vereniging-wij-liggen-25148'>/agenda/2023/5/16/vrije-inloop-bij-petanque-vereniging-wij-liggen-25148</a> || <p><strong>SCHIJNDEL | Iedere zaterdag kunnen liefhebber van Jeu de Boules vrij komen spelen bij Petanque Vereniging Wij Liggen.&nbsp;</strong></p><p>De vereniging opent de banen iedere zaterdag middag tussen 13.30 uur en 16.30 uur. Vanaf 13.00 uur ben je al welkom aan de Leemputtenweg.&nbsp;</p><p>Voor het vrij spelen vraagt de vereniging een bijdrage van €2,- per middag.&nbsp;</p><p>Op deze manier kun je op een laagdrempelige manier kennis maken met de sport.</p>
LAST-MODIFIED:20260425T155322Z
LOCATION: PV Wij Liggen | Leemputtenweg 3 Schijndel
SEQUENCE:0
STATUS:CONFIRMED
SUMMARY:Vrije inloop bij Petanque Vereniging Wij Liggen
TRANSP:OPAQUE
END:VEVENT
END:VCALENDAR
